BEGIN:VCALENDAR
VERSION:2.0
PRODID:-//Arrowood Golf Course - ECPv6.15.20//NONSGML v1.0//EN
CALSCALE:GREGORIAN
METHOD:PUBLISH
X-ORIGINAL-URL:https://arrowoodgolf.com
X-WR-CALDESC:Events for Arrowood Golf Course
REFRESH-INTERVAL;VALUE=DURATION:PT1H
X-Robots-Tag:noindex
X-PUBLISHED-TTL:PT1H
BEGIN:VTIMEZONE
TZID:America/Los_Angeles
BEGIN:DAYLIGHT
TZOFFSETFROM:-0800
TZOFFSETTO:-0700
TZNAME:PDT
DTSTART:20280312T100000
END:DAYLIGHT
BEGIN:STANDARD
TZOFFSETFROM:-0700
TZOFFSETTO:-0800
TZNAME:PST
DTSTART:20281105T090000
END:STANDARD
BEGIN:DAYLIGHT
TZOFFSETFROM:-0800
TZOFFSETTO:-0700
TZNAME:PDT
DTSTART:20290311T100000
END:DAYLIGHT
BEGIN:STANDARD
TZOFFSETFROM:-0700
TZOFFSETTO:-0800
TZNAME:PST
DTSTART:20291104T090000
END:STANDARD
BEGIN:DAYLIGHT
TZOFFSETFROM:-0800
TZOFFSETTO:-0700
TZNAME:PDT
DTSTART:20300310T100000
END:DAYLIGHT
BEGIN:STANDARD
TZOFFSETFROM:-0700
TZOFFSETTO:-0800
TZNAME:PST
DTSTART:20301103T090000
END:STANDARD
END:VTIMEZONE
BEGIN:VEVENT
DTSTART;TZID=America/Los_Angeles:20291003T180000
DTEND;TZID=America/Los_Angeles:20291003T200000
DTSTAMP:20260421T181803
CREATED:20250812T235038Z
LAST-MODIFIED:20250819T001615Z
UID:10004371-1885744800-1885752000@arrowoodgolf.com
SUMMARY:Witty Wednesdays - Trivia
DESCRIPTION:
URL:https://arrowoodgolf.com/event/wednesday-trivia/2029-10-03/
LOCATION:Arrowood Golf Course\, 5201 Village Dr\,\, Oceanside\, CA\, 92057\, United States
ATTACH;FMTTYPE=image/webp:https://arrowoodgolf.com/wp-content/uploads/2025/08/AGC-Trivia-Night.webp
ORGANIZER;CN="Arrowood Golf Course":MAILTO:info@arrowoodgolf.com
END:VEVENT
BEGIN:VEVENT
DTSTART;TZID=America/Los_Angeles:20291010T180000
DTEND;TZID=America/Los_Angeles:20291010T200000
DTSTAMP:20260421T181803
CREATED:20250812T235038Z
LAST-MODIFIED:20250819T001615Z
UID:10004372-1886349600-1886356800@arrowoodgolf.com
SUMMARY:Witty Wednesdays - Trivia
DESCRIPTION:
URL:https://arrowoodgolf.com/event/wednesday-trivia/2029-10-10/
LOCATION:Arrowood Golf Course\, 5201 Village Dr\,\, Oceanside\, CA\, 92057\, United States
ATTACH;FMTTYPE=image/webp:https://arrowoodgolf.com/wp-content/uploads/2025/08/AGC-Trivia-Night.webp
ORGANIZER;CN="Arrowood Golf Course":MAILTO:info@arrowoodgolf.com
END:VEVENT
BEGIN:VEVENT
DTSTART;TZID=America/Los_Angeles:20291017T180000
DTEND;TZID=America/Los_Angeles:20291017T200000
DTSTAMP:20260421T181803
CREATED:20250812T235038Z
LAST-MODIFIED:20250819T001615Z
UID:10004373-1886954400-1886961600@arrowoodgolf.com
SUMMARY:Witty Wednesdays - Trivia
DESCRIPTION:
URL:https://arrowoodgolf.com/event/wednesday-trivia/2029-10-17/
LOCATION:Arrowood Golf Course\, 5201 Village Dr\,\, Oceanside\, CA\, 92057\, United States
ATTACH;FMTTYPE=image/webp:https://arrowoodgolf.com/wp-content/uploads/2025/08/AGC-Trivia-Night.webp
ORGANIZER;CN="Arrowood Golf Course":MAILTO:info@arrowoodgolf.com
END:VEVENT
BEGIN:VEVENT
DTSTART;TZID=America/Los_Angeles:20291024T180000
DTEND;TZID=America/Los_Angeles:20291024T200000
DTSTAMP:20260421T181803
CREATED:20250812T235038Z
LAST-MODIFIED:20250819T001615Z
UID:10004374-1887559200-1887566400@arrowoodgolf.com
SUMMARY:Witty Wednesdays - Trivia
DESCRIPTION:
URL:https://arrowoodgolf.com/event/wednesday-trivia/2029-10-24/
LOCATION:Arrowood Golf Course\, 5201 Village Dr\,\, Oceanside\, CA\, 92057\, United States
ATTACH;FMTTYPE=image/webp:https://arrowoodgolf.com/wp-content/uploads/2025/08/AGC-Trivia-Night.webp
ORGANIZER;CN="Arrowood Golf Course":MAILTO:info@arrowoodgolf.com
END:VEVENT
BEGIN:VEVENT
DTSTART;TZID=America/Los_Angeles:20291031T180000
DTEND;TZID=America/Los_Angeles:20291031T200000
DTSTAMP:20260421T181803
CREATED:20250812T235038Z
LAST-MODIFIED:20250819T001615Z
UID:10004375-1888164000-1888171200@arrowoodgolf.com
SUMMARY:Witty Wednesdays - Trivia
DESCRIPTION:
URL:https://arrowoodgolf.com/event/wednesday-trivia/2029-10-31/
LOCATION:Arrowood Golf Course\, 5201 Village Dr\,\, Oceanside\, CA\, 92057\, United States
ATTACH;FMTTYPE=image/webp:https://arrowoodgolf.com/wp-content/uploads/2025/08/AGC-Trivia-Night.webp
ORGANIZER;CN="Arrowood Golf Course":MAILTO:info@arrowoodgolf.com
END:VEVENT
END:VCALENDAR