BEGIN:VCALENDAR
VERSION:2.0
PRODID:-//Arrowood Golf Course - ECPv6.15.20//NONSGML v1.0//EN
CALSCALE:GREGORIAN
METHOD:PUBLISH
X-WR-CALNAME:Arrowood Golf Course
X-ORIGINAL-URL:https://arrowoodgolf.com
X-WR-CALDESC:Events for Arrowood Golf Course
REFRESH-INTERVAL;VALUE=DURATION:PT1H
X-Robots-Tag:noindex
X-PUBLISHED-TTL:PT1H
BEGIN:VTIMEZONE
TZID:America/Los_Angeles
BEGIN:DAYLIGHT
TZOFFSETFROM:-0800
TZOFFSETTO:-0700
TZNAME:PDT
DTSTART:20240310T100000
END:DAYLIGHT
BEGIN:STANDARD
TZOFFSETFROM:-0700
TZOFFSETTO:-0800
TZNAME:PST
DTSTART:20241103T090000
END:STANDARD
BEGIN:DAYLIGHT
TZOFFSETFROM:-0800
TZOFFSETTO:-0700
TZNAME:PDT
DTSTART:20250309T100000
END:DAYLIGHT
BEGIN:STANDARD
TZOFFSETFROM:-0700
TZOFFSETTO:-0800
TZNAME:PST
DTSTART:20251102T090000
END:STANDARD
BEGIN:DAYLIGHT
TZOFFSETFROM:-0800
TZOFFSETTO:-0700
TZNAME:PDT
DTSTART:20260308T100000
END:DAYLIGHT
BEGIN:STANDARD
TZOFFSETFROM:-0700
TZOFFSETTO:-0800
TZNAME:PST
DTSTART:20261101T090000
END:STANDARD
END:VTIMEZONE
BEGIN:VEVENT
DTSTART;TZID=America/Los_Angeles:20250301T170000
DTEND;TZID=America/Los_Angeles:20250301T200000
DTSTAMP:20260422T010333
CREATED:20250228T185854Z
LAST-MODIFIED:20250301T222357Z
UID:10003784-1740848400-1740859200@arrowoodgolf.com
SUMMARY:Hit The Deck Live DJ Sessions
DESCRIPTION:
URL:https://arrowoodgolf.com/event/hit-the-deck-live-dj-sessions/2025-03-01/
LOCATION:Arrowood Golf Course\, 5201 Village Dr\,\, Oceanside\, CA\, 92057\, United States
CATEGORIES:Special Event
ATTACH;FMTTYPE=image/webp:https://arrowoodgolf.com/wp-content/uploads/2025/02/Hit-the-Deck-LINEUP-March-October-2025.webp
ORGANIZER;CN="Arrowood Golf Course":MAILTO:info@arrowoodgolf.com
END:VEVENT
BEGIN:VEVENT
DTSTART;TZID=America/Los_Angeles:20250305T180000
DTEND;TZID=America/Los_Angeles:20250305T200000
DTSTAMP:20260422T010333
CREATED:20231005T010754Z
LAST-MODIFIED:20250214T221947Z
UID:10003335-1741197600-1741204800@arrowoodgolf.com
SUMMARY:Trivia Night
DESCRIPTION:
URL:https://arrowoodgolf.com/event/trivia-night/2025-03-05/
LOCATION:Arrowood Golf Course\, 5201 Village Dr\,\, Oceanside\, CA\, 92057\, United States
CATEGORIES:Special Event
ATTACH;FMTTYPE=image/webp:https://arrowoodgolf.com/wp-content/uploads/2023/10/Trivia-Night-2025.webp
ORGANIZER;CN="Arrowood Golf Course":MAILTO:info@arrowoodgolf.com
END:VEVENT
BEGIN:VEVENT
DTSTART;TZID=America/Los_Angeles:20250308T170000
DTEND;TZID=America/Los_Angeles:20250308T200000
DTSTAMP:20260422T010333
CREATED:20250228T185854Z
LAST-MODIFIED:20250301T222357Z
UID:10003785-1741453200-1741464000@arrowoodgolf.com
SUMMARY:Hit The Deck Live DJ Sessions
DESCRIPTION:
URL:https://arrowoodgolf.com/event/hit-the-deck-live-dj-sessions/2025-03-08/
LOCATION:Arrowood Golf Course\, 5201 Village Dr\,\, Oceanside\, CA\, 92057\, United States
CATEGORIES:Special Event
ATTACH;FMTTYPE=image/webp:https://arrowoodgolf.com/wp-content/uploads/2025/02/Hit-the-Deck-LINEUP-March-October-2025.webp
ORGANIZER;CN="Arrowood Golf Course":MAILTO:info@arrowoodgolf.com
END:VEVENT
BEGIN:VEVENT
DTSTART;TZID=America/Los_Angeles:20250312T180000
DTEND;TZID=America/Los_Angeles:20250312T200000
DTSTAMP:20260422T010333
CREATED:20231005T010754Z
LAST-MODIFIED:20250214T221947Z
UID:10003336-1741802400-1741809600@arrowoodgolf.com
SUMMARY:Trivia Night
DESCRIPTION:
URL:https://arrowoodgolf.com/event/trivia-night/2025-03-12/
LOCATION:Arrowood Golf Course\, 5201 Village Dr\,\, Oceanside\, CA\, 92057\, United States
CATEGORIES:Special Event
ATTACH;FMTTYPE=image/webp:https://arrowoodgolf.com/wp-content/uploads/2023/10/Trivia-Night-2025.webp
ORGANIZER;CN="Arrowood Golf Course":MAILTO:info@arrowoodgolf.com
END:VEVENT
BEGIN:VEVENT
DTSTART;TZID=America/Los_Angeles:20250315T170000
DTEND;TZID=America/Los_Angeles:20250315T200000
DTSTAMP:20260422T010333
CREATED:20250228T185854Z
LAST-MODIFIED:20250301T222357Z
UID:10003786-1742058000-1742068800@arrowoodgolf.com
SUMMARY:Hit The Deck Live DJ Sessions
DESCRIPTION:
URL:https://arrowoodgolf.com/event/hit-the-deck-live-dj-sessions/2025-03-15/
LOCATION:Arrowood Golf Course\, 5201 Village Dr\,\, Oceanside\, CA\, 92057\, United States
CATEGORIES:Special Event
ATTACH;FMTTYPE=image/webp:https://arrowoodgolf.com/wp-content/uploads/2025/02/Hit-the-Deck-LINEUP-March-October-2025.webp
ORGANIZER;CN="Arrowood Golf Course":MAILTO:info@arrowoodgolf.com
END:VEVENT
BEGIN:VEVENT
DTSTART;TZID=America/Los_Angeles:20250319T180000
DTEND;TZID=America/Los_Angeles:20250319T200000
DTSTAMP:20260422T010333
CREATED:20231005T010754Z
LAST-MODIFIED:20250214T221947Z
UID:10003337-1742407200-1742414400@arrowoodgolf.com
SUMMARY:Trivia Night
DESCRIPTION:
URL:https://arrowoodgolf.com/event/trivia-night/2025-03-19/
LOCATION:Arrowood Golf Course\, 5201 Village Dr\,\, Oceanside\, CA\, 92057\, United States
CATEGORIES:Special Event
ATTACH;FMTTYPE=image/webp:https://arrowoodgolf.com/wp-content/uploads/2023/10/Trivia-Night-2025.webp
ORGANIZER;CN="Arrowood Golf Course":MAILTO:info@arrowoodgolf.com
END:VEVENT
BEGIN:VEVENT
DTSTART;TZID=America/Los_Angeles:20250322T170000
DTEND;TZID=America/Los_Angeles:20250322T200000
DTSTAMP:20260422T010333
CREATED:20250228T185854Z
LAST-MODIFIED:20250301T222357Z
UID:10003787-1742662800-1742673600@arrowoodgolf.com
SUMMARY:Hit The Deck Live DJ Sessions
DESCRIPTION:
URL:https://arrowoodgolf.com/event/hit-the-deck-live-dj-sessions/2025-03-22/
LOCATION:Arrowood Golf Course\, 5201 Village Dr\,\, Oceanside\, CA\, 92057\, United States
CATEGORIES:Special Event
ATTACH;FMTTYPE=image/webp:https://arrowoodgolf.com/wp-content/uploads/2025/02/Hit-the-Deck-LINEUP-March-October-2025.webp
ORGANIZER;CN="Arrowood Golf Course":MAILTO:info@arrowoodgolf.com
END:VEVENT
BEGIN:VEVENT
DTSTART;TZID=America/Los_Angeles:20250326T180000
DTEND;TZID=America/Los_Angeles:20250326T200000
DTSTAMP:20260422T010333
CREATED:20231005T010754Z
LAST-MODIFIED:20250214T221947Z
UID:10003338-1743012000-1743019200@arrowoodgolf.com
SUMMARY:Trivia Night
DESCRIPTION:
URL:https://arrowoodgolf.com/event/trivia-night/2025-03-26/
LOCATION:Arrowood Golf Course\, 5201 Village Dr\,\, Oceanside\, CA\, 92057\, United States
CATEGORIES:Special Event
ATTACH;FMTTYPE=image/webp:https://arrowoodgolf.com/wp-content/uploads/2023/10/Trivia-Night-2025.webp
ORGANIZER;CN="Arrowood Golf Course":MAILTO:info@arrowoodgolf.com
END:VEVENT
BEGIN:VEVENT
DTSTART;TZID=America/Los_Angeles:20250329T170000
DTEND;TZID=America/Los_Angeles:20250329T200000
DTSTAMP:20260422T010333
CREATED:20250228T185854Z
LAST-MODIFIED:20250301T222357Z
UID:10003788-1743267600-1743278400@arrowoodgolf.com
SUMMARY:Hit The Deck Live DJ Sessions
DESCRIPTION:
URL:https://arrowoodgolf.com/event/hit-the-deck-live-dj-sessions/2025-03-29/
LOCATION:Arrowood Golf Course\, 5201 Village Dr\,\, Oceanside\, CA\, 92057\, United States
CATEGORIES:Special Event
ATTACH;FMTTYPE=image/webp:https://arrowoodgolf.com/wp-content/uploads/2025/02/Hit-the-Deck-LINEUP-March-October-2025.webp
ORGANIZER;CN="Arrowood Golf Course":MAILTO:info@arrowoodgolf.com
END:VEVENT
END:VCALENDAR