BEGIN:VCALENDAR
VERSION:2.0
PRODID:-//Arrowood Golf Course - ECPv6.15.20//NONSGML v1.0//EN
CALSCALE:GREGORIAN
METHOD:PUBLISH
X-ORIGINAL-URL:https://arrowoodgolf.com
X-WR-CALDESC:Events for Arrowood Golf Course
REFRESH-INTERVAL;VALUE=DURATION:PT1H
X-Robots-Tag:noindex
X-PUBLISHED-TTL:PT1H
BEGIN:VTIMEZONE
TZID:America/Los_Angeles
BEGIN:DAYLIGHT
TZOFFSETFROM:-0800
TZOFFSETTO:-0700
TZNAME:PDT
DTSTART:20260308T100000
END:DAYLIGHT
BEGIN:STANDARD
TZOFFSETFROM:-0700
TZOFFSETTO:-0800
TZNAME:PST
DTSTART:20261101T090000
END:STANDARD
BEGIN:DAYLIGHT
TZOFFSETFROM:-0800
TZOFFSETTO:-0700
TZNAME:PDT
DTSTART:20270314T100000
END:DAYLIGHT
BEGIN:STANDARD
TZOFFSETFROM:-0700
TZOFFSETTO:-0800
TZNAME:PST
DTSTART:20271107T090000
END:STANDARD
BEGIN:DAYLIGHT
TZOFFSETFROM:-0800
TZOFFSETTO:-0700
TZNAME:PDT
DTSTART:20280312T100000
END:DAYLIGHT
BEGIN:STANDARD
TZOFFSETFROM:-0700
TZOFFSETTO:-0800
TZNAME:PST
DTSTART:20281105T090000
END:STANDARD
END:VTIMEZONE
BEGIN:VEVENT
DTSTART;TZID=America/Los_Angeles:20270403T143000
DTEND;TZID=America/Los_Angeles:20270403T143000
DTSTAMP:20260425T033524
CREATED:20260415T184745Z
LAST-MODIFIED:20260416T001842Z
UID:10004935-1806762600-1806762600@arrowoodgolf.com
SUMMARY:Weekly Saturday Skins Game
DESCRIPTION:
URL:https://arrowoodgolf.com/event/weekly-saturday-skins-game/2027-04-03/
LOCATION:Arrowood Golf Course\, 5201 Village Dr\,\, Oceanside\, CA\, 92057\, United States
CATEGORIES:Fairways
ATTACH;FMTTYPE=image/webp:https://arrowoodgolf.com/wp-content/uploads/2025/10/Weekly-Skins-Game-2025.webp
ORGANIZER;CN="Arrowood Golf Course":MAILTO:info@arrowoodgolf.com
END:VEVENT
BEGIN:VEVENT
DTSTART;TZID=America/Los_Angeles:20270410T143000
DTEND;TZID=America/Los_Angeles:20270410T143000
DTSTAMP:20260425T033524
CREATED:20260415T184745Z
LAST-MODIFIED:20260416T001842Z
UID:10004936-1807367400-1807367400@arrowoodgolf.com
SUMMARY:Weekly Saturday Skins Game
DESCRIPTION:
URL:https://arrowoodgolf.com/event/weekly-saturday-skins-game/2027-04-10/
LOCATION:Arrowood Golf Course\, 5201 Village Dr\,\, Oceanside\, CA\, 92057\, United States
CATEGORIES:Fairways
ATTACH;FMTTYPE=image/webp:https://arrowoodgolf.com/wp-content/uploads/2025/10/Weekly-Skins-Game-2025.webp
ORGANIZER;CN="Arrowood Golf Course":MAILTO:info@arrowoodgolf.com
END:VEVENT
BEGIN:VEVENT
DTSTART;TZID=America/Los_Angeles:20270417T143000
DTEND;TZID=America/Los_Angeles:20270417T143000
DTSTAMP:20260425T033524
CREATED:20260415T184745Z
LAST-MODIFIED:20260416T001842Z
UID:10004937-1807972200-1807972200@arrowoodgolf.com
SUMMARY:Weekly Saturday Skins Game
DESCRIPTION:
URL:https://arrowoodgolf.com/event/weekly-saturday-skins-game/2027-04-17/
LOCATION:Arrowood Golf Course\, 5201 Village Dr\,\, Oceanside\, CA\, 92057\, United States
CATEGORIES:Fairways
ATTACH;FMTTYPE=image/webp:https://arrowoodgolf.com/wp-content/uploads/2025/10/Weekly-Skins-Game-2025.webp
ORGANIZER;CN="Arrowood Golf Course":MAILTO:info@arrowoodgolf.com
END:VEVENT
BEGIN:VEVENT
DTSTART;TZID=America/Los_Angeles:20270424T143000
DTEND;TZID=America/Los_Angeles:20270424T143000
DTSTAMP:20260425T033524
CREATED:20260415T184745Z
LAST-MODIFIED:20260416T001842Z
UID:10004938-1808577000-1808577000@arrowoodgolf.com
SUMMARY:Weekly Saturday Skins Game
DESCRIPTION:
URL:https://arrowoodgolf.com/event/weekly-saturday-skins-game/2027-04-24/
LOCATION:Arrowood Golf Course\, 5201 Village Dr\,\, Oceanside\, CA\, 92057\, United States
CATEGORIES:Fairways
ATTACH;FMTTYPE=image/webp:https://arrowoodgolf.com/wp-content/uploads/2025/10/Weekly-Skins-Game-2025.webp
ORGANIZER;CN="Arrowood Golf Course":MAILTO:info@arrowoodgolf.com
END:VEVENT
BEGIN:VEVENT
DTSTART;TZID=America/Los_Angeles:20270501T143000
DTEND;TZID=America/Los_Angeles:20270501T143000
DTSTAMP:20260425T033524
CREATED:20260415T184745Z
LAST-MODIFIED:20260416T001842Z
UID:10004939-1809181800-1809181800@arrowoodgolf.com
SUMMARY:Weekly Saturday Skins Game
DESCRIPTION:
URL:https://arrowoodgolf.com/event/weekly-saturday-skins-game/2027-05-01/
LOCATION:Arrowood Golf Course\, 5201 Village Dr\,\, Oceanside\, CA\, 92057\, United States
CATEGORIES:Fairways
ATTACH;FMTTYPE=image/webp:https://arrowoodgolf.com/wp-content/uploads/2025/10/Weekly-Skins-Game-2025.webp
ORGANIZER;CN="Arrowood Golf Course":MAILTO:info@arrowoodgolf.com
END:VEVENT
BEGIN:VEVENT
DTSTART;TZID=America/Los_Angeles:20270508T143000
DTEND;TZID=America/Los_Angeles:20270508T143000
DTSTAMP:20260425T033524
CREATED:20260415T184745Z
LAST-MODIFIED:20260416T001842Z
UID:10004940-1809786600-1809786600@arrowoodgolf.com
SUMMARY:Weekly Saturday Skins Game
DESCRIPTION:
URL:https://arrowoodgolf.com/event/weekly-saturday-skins-game/2027-05-08/
LOCATION:Arrowood Golf Course\, 5201 Village Dr\,\, Oceanside\, CA\, 92057\, United States
CATEGORIES:Fairways
ATTACH;FMTTYPE=image/webp:https://arrowoodgolf.com/wp-content/uploads/2025/10/Weekly-Skins-Game-2025.webp
ORGANIZER;CN="Arrowood Golf Course":MAILTO:info@arrowoodgolf.com
END:VEVENT
BEGIN:VEVENT
DTSTART;TZID=America/Los_Angeles:20270515T143000
DTEND;TZID=America/Los_Angeles:20270515T143000
DTSTAMP:20260425T033524
CREATED:20260415T184745Z
LAST-MODIFIED:20260416T001842Z
UID:10004941-1810391400-1810391400@arrowoodgolf.com
SUMMARY:Weekly Saturday Skins Game
DESCRIPTION:
URL:https://arrowoodgolf.com/event/weekly-saturday-skins-game/2027-05-15/
LOCATION:Arrowood Golf Course\, 5201 Village Dr\,\, Oceanside\, CA\, 92057\, United States
CATEGORIES:Fairways
ATTACH;FMTTYPE=image/webp:https://arrowoodgolf.com/wp-content/uploads/2025/10/Weekly-Skins-Game-2025.webp
ORGANIZER;CN="Arrowood Golf Course":MAILTO:info@arrowoodgolf.com
END:VEVENT
BEGIN:VEVENT
DTSTART;TZID=America/Los_Angeles:20270522T143000
DTEND;TZID=America/Los_Angeles:20270522T143000
DTSTAMP:20260425T033524
CREATED:20260415T184745Z
LAST-MODIFIED:20260416T001842Z
UID:10004942-1810996200-1810996200@arrowoodgolf.com
SUMMARY:Weekly Saturday Skins Game
DESCRIPTION:
URL:https://arrowoodgolf.com/event/weekly-saturday-skins-game/2027-05-22/
LOCATION:Arrowood Golf Course\, 5201 Village Dr\,\, Oceanside\, CA\, 92057\, United States
CATEGORIES:Fairways
ATTACH;FMTTYPE=image/webp:https://arrowoodgolf.com/wp-content/uploads/2025/10/Weekly-Skins-Game-2025.webp
ORGANIZER;CN="Arrowood Golf Course":MAILTO:info@arrowoodgolf.com
END:VEVENT
BEGIN:VEVENT
DTSTART;TZID=America/Los_Angeles:20270529T143000
DTEND;TZID=America/Los_Angeles:20270529T143000
DTSTAMP:20260425T033524
CREATED:20260415T184745Z
LAST-MODIFIED:20260416T001842Z
UID:10004943-1811601000-1811601000@arrowoodgolf.com
SUMMARY:Weekly Saturday Skins Game
DESCRIPTION:
URL:https://arrowoodgolf.com/event/weekly-saturday-skins-game/2027-05-29/
LOCATION:Arrowood Golf Course\, 5201 Village Dr\,\, Oceanside\, CA\, 92057\, United States
CATEGORIES:Fairways
ATTACH;FMTTYPE=image/webp:https://arrowoodgolf.com/wp-content/uploads/2025/10/Weekly-Skins-Game-2025.webp
ORGANIZER;CN="Arrowood Golf Course":MAILTO:info@arrowoodgolf.com
END:VEVENT
BEGIN:VEVENT
DTSTART;TZID=America/Los_Angeles:20270605T143000
DTEND;TZID=America/Los_Angeles:20270605T143000
DTSTAMP:20260425T033524
CREATED:20260415T184745Z
LAST-MODIFIED:20260416T001842Z
UID:10004944-1812205800-1812205800@arrowoodgolf.com
SUMMARY:Weekly Saturday Skins Game
DESCRIPTION:
URL:https://arrowoodgolf.com/event/weekly-saturday-skins-game/2027-06-05/
LOCATION:Arrowood Golf Course\, 5201 Village Dr\,\, Oceanside\, CA\, 92057\, United States
CATEGORIES:Fairways
ATTACH;FMTTYPE=image/webp:https://arrowoodgolf.com/wp-content/uploads/2025/10/Weekly-Skins-Game-2025.webp
ORGANIZER;CN="Arrowood Golf Course":MAILTO:info@arrowoodgolf.com
END:VEVENT
BEGIN:VEVENT
DTSTART;TZID=America/Los_Angeles:20270612T143000
DTEND;TZID=America/Los_Angeles:20270612T143000
DTSTAMP:20260425T033524
CREATED:20260415T184745Z
LAST-MODIFIED:20260416T001842Z
UID:10004945-1812810600-1812810600@arrowoodgolf.com
SUMMARY:Weekly Saturday Skins Game
DESCRIPTION:
URL:https://arrowoodgolf.com/event/weekly-saturday-skins-game/2027-06-12/
LOCATION:Arrowood Golf Course\, 5201 Village Dr\,\, Oceanside\, CA\, 92057\, United States
CATEGORIES:Fairways
ATTACH;FMTTYPE=image/webp:https://arrowoodgolf.com/wp-content/uploads/2025/10/Weekly-Skins-Game-2025.webp
ORGANIZER;CN="Arrowood Golf Course":MAILTO:info@arrowoodgolf.com
END:VEVENT
BEGIN:VEVENT
DTSTART;TZID=America/Los_Angeles:20270619T143000
DTEND;TZID=America/Los_Angeles:20270619T143000
DTSTAMP:20260425T033524
CREATED:20260415T184745Z
LAST-MODIFIED:20260416T001842Z
UID:10004946-1813415400-1813415400@arrowoodgolf.com
SUMMARY:Weekly Saturday Skins Game
DESCRIPTION:
URL:https://arrowoodgolf.com/event/weekly-saturday-skins-game/2027-06-19/
LOCATION:Arrowood Golf Course\, 5201 Village Dr\,\, Oceanside\, CA\, 92057\, United States
CATEGORIES:Fairways
ATTACH;FMTTYPE=image/webp:https://arrowoodgolf.com/wp-content/uploads/2025/10/Weekly-Skins-Game-2025.webp
ORGANIZER;CN="Arrowood Golf Course":MAILTO:info@arrowoodgolf.com
END:VEVENT
BEGIN:VEVENT
DTSTART;TZID=America/Los_Angeles:20270626T143000
DTEND;TZID=America/Los_Angeles:20270626T143000
DTSTAMP:20260425T033524
CREATED:20260415T184745Z
LAST-MODIFIED:20260416T001842Z
UID:10004947-1814020200-1814020200@arrowoodgolf.com
SUMMARY:Weekly Saturday Skins Game
DESCRIPTION:
URL:https://arrowoodgolf.com/event/weekly-saturday-skins-game/2027-06-26/
LOCATION:Arrowood Golf Course\, 5201 Village Dr\,\, Oceanside\, CA\, 92057\, United States
CATEGORIES:Fairways
ATTACH;FMTTYPE=image/webp:https://arrowoodgolf.com/wp-content/uploads/2025/10/Weekly-Skins-Game-2025.webp
ORGANIZER;CN="Arrowood Golf Course":MAILTO:info@arrowoodgolf.com
END:VEVENT
BEGIN:VEVENT
DTSTART;TZID=America/Los_Angeles:20270703T143000
DTEND;TZID=America/Los_Angeles:20270703T143000
DTSTAMP:20260425T033524
CREATED:20260415T184745Z
LAST-MODIFIED:20260416T001842Z
UID:10004948-1814625000-1814625000@arrowoodgolf.com
SUMMARY:Weekly Saturday Skins Game
DESCRIPTION:
URL:https://arrowoodgolf.com/event/weekly-saturday-skins-game/2027-07-03/
LOCATION:Arrowood Golf Course\, 5201 Village Dr\,\, Oceanside\, CA\, 92057\, United States
CATEGORIES:Fairways
ATTACH;FMTTYPE=image/webp:https://arrowoodgolf.com/wp-content/uploads/2025/10/Weekly-Skins-Game-2025.webp
ORGANIZER;CN="Arrowood Golf Course":MAILTO:info@arrowoodgolf.com
END:VEVENT
BEGIN:VEVENT
DTSTART;TZID=America/Los_Angeles:20270710T143000
DTEND;TZID=America/Los_Angeles:20270710T143000
DTSTAMP:20260425T033524
CREATED:20260415T184745Z
LAST-MODIFIED:20260416T001842Z
UID:10004949-1815229800-1815229800@arrowoodgolf.com
SUMMARY:Weekly Saturday Skins Game
DESCRIPTION:
URL:https://arrowoodgolf.com/event/weekly-saturday-skins-game/2027-07-10/
LOCATION:Arrowood Golf Course\, 5201 Village Dr\,\, Oceanside\, CA\, 92057\, United States
CATEGORIES:Fairways
ATTACH;FMTTYPE=image/webp:https://arrowoodgolf.com/wp-content/uploads/2025/10/Weekly-Skins-Game-2025.webp
ORGANIZER;CN="Arrowood Golf Course":MAILTO:info@arrowoodgolf.com
END:VEVENT
BEGIN:VEVENT
DTSTART;TZID=America/Los_Angeles:20270717T143000
DTEND;TZID=America/Los_Angeles:20270717T143000
DTSTAMP:20260425T033524
CREATED:20260415T184745Z
LAST-MODIFIED:20260416T001842Z
UID:10004950-1815834600-1815834600@arrowoodgolf.com
SUMMARY:Weekly Saturday Skins Game
DESCRIPTION:
URL:https://arrowoodgolf.com/event/weekly-saturday-skins-game/2027-07-17/
LOCATION:Arrowood Golf Course\, 5201 Village Dr\,\, Oceanside\, CA\, 92057\, United States
CATEGORIES:Fairways
ATTACH;FMTTYPE=image/webp:https://arrowoodgolf.com/wp-content/uploads/2025/10/Weekly-Skins-Game-2025.webp
ORGANIZER;CN="Arrowood Golf Course":MAILTO:info@arrowoodgolf.com
END:VEVENT
BEGIN:VEVENT
DTSTART;TZID=America/Los_Angeles:20270724T143000
DTEND;TZID=America/Los_Angeles:20270724T143000
DTSTAMP:20260425T033524
CREATED:20260415T184745Z
LAST-MODIFIED:20260416T001842Z
UID:10004951-1816439400-1816439400@arrowoodgolf.com
SUMMARY:Weekly Saturday Skins Game
DESCRIPTION:
URL:https://arrowoodgolf.com/event/weekly-saturday-skins-game/2027-07-24/
LOCATION:Arrowood Golf Course\, 5201 Village Dr\,\, Oceanside\, CA\, 92057\, United States
CATEGORIES:Fairways
ATTACH;FMTTYPE=image/webp:https://arrowoodgolf.com/wp-content/uploads/2025/10/Weekly-Skins-Game-2025.webp
ORGANIZER;CN="Arrowood Golf Course":MAILTO:info@arrowoodgolf.com
END:VEVENT
BEGIN:VEVENT
DTSTART;TZID=America/Los_Angeles:20270731T143000
DTEND;TZID=America/Los_Angeles:20270731T143000
DTSTAMP:20260425T033524
CREATED:20260415T184745Z
LAST-MODIFIED:20260416T001842Z
UID:10004952-1817044200-1817044200@arrowoodgolf.com
SUMMARY:Weekly Saturday Skins Game
DESCRIPTION:
URL:https://arrowoodgolf.com/event/weekly-saturday-skins-game/2027-07-31/
LOCATION:Arrowood Golf Course\, 5201 Village Dr\,\, Oceanside\, CA\, 92057\, United States
CATEGORIES:Fairways
ATTACH;FMTTYPE=image/webp:https://arrowoodgolf.com/wp-content/uploads/2025/10/Weekly-Skins-Game-2025.webp
ORGANIZER;CN="Arrowood Golf Course":MAILTO:info@arrowoodgolf.com
END:VEVENT
BEGIN:VEVENT
DTSTART;TZID=America/Los_Angeles:20270807T143000
DTEND;TZID=America/Los_Angeles:20270807T143000
DTSTAMP:20260425T033524
CREATED:20260415T184745Z
LAST-MODIFIED:20260416T001842Z
UID:10004953-1817649000-1817649000@arrowoodgolf.com
SUMMARY:Weekly Saturday Skins Game
DESCRIPTION:
URL:https://arrowoodgolf.com/event/weekly-saturday-skins-game/2027-08-07/
LOCATION:Arrowood Golf Course\, 5201 Village Dr\,\, Oceanside\, CA\, 92057\, United States
CATEGORIES:Fairways
ATTACH;FMTTYPE=image/webp:https://arrowoodgolf.com/wp-content/uploads/2025/10/Weekly-Skins-Game-2025.webp
ORGANIZER;CN="Arrowood Golf Course":MAILTO:info@arrowoodgolf.com
END:VEVENT
BEGIN:VEVENT
DTSTART;TZID=America/Los_Angeles:20270814T143000
DTEND;TZID=America/Los_Angeles:20270814T143000
DTSTAMP:20260425T033524
CREATED:20260415T184745Z
LAST-MODIFIED:20260416T001842Z
UID:10004954-1818253800-1818253800@arrowoodgolf.com
SUMMARY:Weekly Saturday Skins Game
DESCRIPTION:
URL:https://arrowoodgolf.com/event/weekly-saturday-skins-game/2027-08-14/
LOCATION:Arrowood Golf Course\, 5201 Village Dr\,\, Oceanside\, CA\, 92057\, United States
CATEGORIES:Fairways
ATTACH;FMTTYPE=image/webp:https://arrowoodgolf.com/wp-content/uploads/2025/10/Weekly-Skins-Game-2025.webp
ORGANIZER;CN="Arrowood Golf Course":MAILTO:info@arrowoodgolf.com
END:VEVENT
BEGIN:VEVENT
DTSTART;TZID=America/Los_Angeles:20270821T143000
DTEND;TZID=America/Los_Angeles:20270821T143000
DTSTAMP:20260425T033524
CREATED:20260415T184745Z
LAST-MODIFIED:20260416T001842Z
UID:10004955-1818858600-1818858600@arrowoodgolf.com
SUMMARY:Weekly Saturday Skins Game
DESCRIPTION:
URL:https://arrowoodgolf.com/event/weekly-saturday-skins-game/2027-08-21/
LOCATION:Arrowood Golf Course\, 5201 Village Dr\,\, Oceanside\, CA\, 92057\, United States
CATEGORIES:Fairways
ATTACH;FMTTYPE=image/webp:https://arrowoodgolf.com/wp-content/uploads/2025/10/Weekly-Skins-Game-2025.webp
ORGANIZER;CN="Arrowood Golf Course":MAILTO:info@arrowoodgolf.com
END:VEVENT
BEGIN:VEVENT
DTSTART;TZID=America/Los_Angeles:20270828T143000
DTEND;TZID=America/Los_Angeles:20270828T143000
DTSTAMP:20260425T033524
CREATED:20260415T184745Z
LAST-MODIFIED:20260416T001842Z
UID:10004956-1819463400-1819463400@arrowoodgolf.com
SUMMARY:Weekly Saturday Skins Game
DESCRIPTION:
URL:https://arrowoodgolf.com/event/weekly-saturday-skins-game/2027-08-28/
LOCATION:Arrowood Golf Course\, 5201 Village Dr\,\, Oceanside\, CA\, 92057\, United States
CATEGORIES:Fairways
ATTACH;FMTTYPE=image/webp:https://arrowoodgolf.com/wp-content/uploads/2025/10/Weekly-Skins-Game-2025.webp
ORGANIZER;CN="Arrowood Golf Course":MAILTO:info@arrowoodgolf.com
END:VEVENT
BEGIN:VEVENT
DTSTART;TZID=America/Los_Angeles:20270904T143000
DTEND;TZID=America/Los_Angeles:20270904T143000
DTSTAMP:20260425T033524
CREATED:20260415T184745Z
LAST-MODIFIED:20260416T001842Z
UID:10004957-1820068200-1820068200@arrowoodgolf.com
SUMMARY:Weekly Saturday Skins Game
DESCRIPTION:
URL:https://arrowoodgolf.com/event/weekly-saturday-skins-game/2027-09-04/
LOCATION:Arrowood Golf Course\, 5201 Village Dr\,\, Oceanside\, CA\, 92057\, United States
CATEGORIES:Fairways
ATTACH;FMTTYPE=image/webp:https://arrowoodgolf.com/wp-content/uploads/2025/10/Weekly-Skins-Game-2025.webp
ORGANIZER;CN="Arrowood Golf Course":MAILTO:info@arrowoodgolf.com
END:VEVENT
BEGIN:VEVENT
DTSTART;TZID=America/Los_Angeles:20270911T143000
DTEND;TZID=America/Los_Angeles:20270911T143000
DTSTAMP:20260425T033524
CREATED:20260415T184745Z
LAST-MODIFIED:20260416T001842Z
UID:10004958-1820673000-1820673000@arrowoodgolf.com
SUMMARY:Weekly Saturday Skins Game
DESCRIPTION:
URL:https://arrowoodgolf.com/event/weekly-saturday-skins-game/2027-09-11/
LOCATION:Arrowood Golf Course\, 5201 Village Dr\,\, Oceanside\, CA\, 92057\, United States
CATEGORIES:Fairways
ATTACH;FMTTYPE=image/webp:https://arrowoodgolf.com/wp-content/uploads/2025/10/Weekly-Skins-Game-2025.webp
ORGANIZER;CN="Arrowood Golf Course":MAILTO:info@arrowoodgolf.com
END:VEVENT
BEGIN:VEVENT
DTSTART;TZID=America/Los_Angeles:20270918T143000
DTEND;TZID=America/Los_Angeles:20270918T143000
DTSTAMP:20260425T033524
CREATED:20260415T184745Z
LAST-MODIFIED:20260416T001842Z
UID:10004959-1821277800-1821277800@arrowoodgolf.com
SUMMARY:Weekly Saturday Skins Game
DESCRIPTION:
URL:https://arrowoodgolf.com/event/weekly-saturday-skins-game/2027-09-18/
LOCATION:Arrowood Golf Course\, 5201 Village Dr\,\, Oceanside\, CA\, 92057\, United States
CATEGORIES:Fairways
ATTACH;FMTTYPE=image/webp:https://arrowoodgolf.com/wp-content/uploads/2025/10/Weekly-Skins-Game-2025.webp
ORGANIZER;CN="Arrowood Golf Course":MAILTO:info@arrowoodgolf.com
END:VEVENT
BEGIN:VEVENT
DTSTART;TZID=America/Los_Angeles:20270925T143000
DTEND;TZID=America/Los_Angeles:20270925T143000
DTSTAMP:20260425T033524
CREATED:20260415T184745Z
LAST-MODIFIED:20260416T001842Z
UID:10004960-1821882600-1821882600@arrowoodgolf.com
SUMMARY:Weekly Saturday Skins Game
DESCRIPTION:
URL:https://arrowoodgolf.com/event/weekly-saturday-skins-game/2027-09-25/
LOCATION:Arrowood Golf Course\, 5201 Village Dr\,\, Oceanside\, CA\, 92057\, United States
CATEGORIES:Fairways
ATTACH;FMTTYPE=image/webp:https://arrowoodgolf.com/wp-content/uploads/2025/10/Weekly-Skins-Game-2025.webp
ORGANIZER;CN="Arrowood Golf Course":MAILTO:info@arrowoodgolf.com
END:VEVENT
END:VCALENDAR