BEGIN:VCALENDAR
VERSION:2.0
PRODID:-//Arrowood Golf Course - ECPv6.15.20//NONSGML v1.0//EN
CALSCALE:GREGORIAN
METHOD:PUBLISH
X-WR-CALNAME:Arrowood Golf Course
X-ORIGINAL-URL:https://arrowoodgolf.com
X-WR-CALDESC:Events for Arrowood Golf Course
REFRESH-INTERVAL;VALUE=DURATION:PT1H
X-Robots-Tag:noindex
X-PUBLISHED-TTL:PT1H
BEGIN:VTIMEZONE
TZID:America/Los_Angeles
BEGIN:DAYLIGHT
TZOFFSETFROM:-0800
TZOFFSETTO:-0700
TZNAME:PDT
DTSTART:20250309T100000
END:DAYLIGHT
BEGIN:STANDARD
TZOFFSETFROM:-0700
TZOFFSETTO:-0800
TZNAME:PST
DTSTART:20251102T090000
END:STANDARD
BEGIN:DAYLIGHT
TZOFFSETFROM:-0800
TZOFFSETTO:-0700
TZNAME:PDT
DTSTART:20260308T100000
END:DAYLIGHT
BEGIN:STANDARD
TZOFFSETFROM:-0700
TZOFFSETTO:-0800
TZNAME:PST
DTSTART:20261101T090000
END:STANDARD
BEGIN:DAYLIGHT
TZOFFSETFROM:-0800
TZOFFSETTO:-0700
TZNAME:PDT
DTSTART:20270314T100000
END:DAYLIGHT
BEGIN:STANDARD
TZOFFSETFROM:-0700
TZOFFSETTO:-0800
TZNAME:PST
DTSTART:20271107T090000
END:STANDARD
BEGIN:DAYLIGHT
TZOFFSETFROM:-0800
TZOFFSETTO:-0700
TZNAME:PDT
DTSTART:20280312T100000
END:DAYLIGHT
BEGIN:STANDARD
TZOFFSETFROM:-0700
TZOFFSETTO:-0800
TZNAME:PST
DTSTART:20281105T090000
END:STANDARD
END:VTIMEZONE
BEGIN:VEVENT
DTSTART;TZID=America/Los_Angeles:20260725T143000
DTEND;TZID=America/Los_Angeles:20260725T143000
DTSTAMP:20260425T094527
CREATED:20260415T184745Z
LAST-MODIFIED:20260416T001842Z
UID:10004899-1784989800-1784989800@arrowoodgolf.com
SUMMARY:Weekly Saturday Skins Game
DESCRIPTION:
URL:https://arrowoodgolf.com/event/weekly-saturday-skins-game/2026-07-25/
LOCATION:Arrowood Golf Course\, 5201 Village Dr\,\, Oceanside\, CA\, 92057\, United States
CATEGORIES:Fairways
ATTACH;FMTTYPE=image/webp:https://arrowoodgolf.com/wp-content/uploads/2025/10/Weekly-Skins-Game-2025.webp
ORGANIZER;CN="Arrowood Golf Course":MAILTO:info@arrowoodgolf.com
END:VEVENT
BEGIN:VEVENT
DTSTART;TZID=America/Los_Angeles:20260801T143000
DTEND;TZID=America/Los_Angeles:20260801T143000
DTSTAMP:20260425T094527
CREATED:20260415T184745Z
LAST-MODIFIED:20260416T001842Z
UID:10004900-1785594600-1785594600@arrowoodgolf.com
SUMMARY:Weekly Saturday Skins Game
DESCRIPTION:
URL:https://arrowoodgolf.com/event/weekly-saturday-skins-game/2026-08-01/
LOCATION:Arrowood Golf Course\, 5201 Village Dr\,\, Oceanside\, CA\, 92057\, United States
CATEGORIES:Fairways
ATTACH;FMTTYPE=image/webp:https://arrowoodgolf.com/wp-content/uploads/2025/10/Weekly-Skins-Game-2025.webp
ORGANIZER;CN="Arrowood Golf Course":MAILTO:info@arrowoodgolf.com
END:VEVENT
BEGIN:VEVENT
DTSTART;TZID=America/Los_Angeles:20260808T143000
DTEND;TZID=America/Los_Angeles:20260808T143000
DTSTAMP:20260425T094527
CREATED:20260415T184745Z
LAST-MODIFIED:20260416T001842Z
UID:10004901-1786199400-1786199400@arrowoodgolf.com
SUMMARY:Weekly Saturday Skins Game
DESCRIPTION:
URL:https://arrowoodgolf.com/event/weekly-saturday-skins-game/2026-08-08/
LOCATION:Arrowood Golf Course\, 5201 Village Dr\,\, Oceanside\, CA\, 92057\, United States
CATEGORIES:Fairways
ATTACH;FMTTYPE=image/webp:https://arrowoodgolf.com/wp-content/uploads/2025/10/Weekly-Skins-Game-2025.webp
ORGANIZER;CN="Arrowood Golf Course":MAILTO:info@arrowoodgolf.com
END:VEVENT
BEGIN:VEVENT
DTSTART;TZID=America/Los_Angeles:20260815T143000
DTEND;TZID=America/Los_Angeles:20260815T143000
DTSTAMP:20260425T094527
CREATED:20260415T184745Z
LAST-MODIFIED:20260416T001842Z
UID:10004902-1786804200-1786804200@arrowoodgolf.com
SUMMARY:Weekly Saturday Skins Game
DESCRIPTION:
URL:https://arrowoodgolf.com/event/weekly-saturday-skins-game/2026-08-15/
LOCATION:Arrowood Golf Course\, 5201 Village Dr\,\, Oceanside\, CA\, 92057\, United States
CATEGORIES:Fairways
ATTACH;FMTTYPE=image/webp:https://arrowoodgolf.com/wp-content/uploads/2025/10/Weekly-Skins-Game-2025.webp
ORGANIZER;CN="Arrowood Golf Course":MAILTO:info@arrowoodgolf.com
END:VEVENT
BEGIN:VEVENT
DTSTART;TZID=America/Los_Angeles:20260822T143000
DTEND;TZID=America/Los_Angeles:20260822T143000
DTSTAMP:20260425T094527
CREATED:20260415T184745Z
LAST-MODIFIED:20260416T001842Z
UID:10004903-1787409000-1787409000@arrowoodgolf.com
SUMMARY:Weekly Saturday Skins Game
DESCRIPTION:
URL:https://arrowoodgolf.com/event/weekly-saturday-skins-game/2026-08-22/
LOCATION:Arrowood Golf Course\, 5201 Village Dr\,\, Oceanside\, CA\, 92057\, United States
CATEGORIES:Fairways
ATTACH;FMTTYPE=image/webp:https://arrowoodgolf.com/wp-content/uploads/2025/10/Weekly-Skins-Game-2025.webp
ORGANIZER;CN="Arrowood Golf Course":MAILTO:info@arrowoodgolf.com
END:VEVENT
BEGIN:VEVENT
DTSTART;TZID=America/Los_Angeles:20260829T143000
DTEND;TZID=America/Los_Angeles:20260829T143000
DTSTAMP:20260425T094527
CREATED:20260415T184745Z
LAST-MODIFIED:20260416T001842Z
UID:10004904-1788013800-1788013800@arrowoodgolf.com
SUMMARY:Weekly Saturday Skins Game
DESCRIPTION:
URL:https://arrowoodgolf.com/event/weekly-saturday-skins-game/2026-08-29/
LOCATION:Arrowood Golf Course\, 5201 Village Dr\,\, Oceanside\, CA\, 92057\, United States
CATEGORIES:Fairways
ATTACH;FMTTYPE=image/webp:https://arrowoodgolf.com/wp-content/uploads/2025/10/Weekly-Skins-Game-2025.webp
ORGANIZER;CN="Arrowood Golf Course":MAILTO:info@arrowoodgolf.com
END:VEVENT
BEGIN:VEVENT
DTSTART;TZID=America/Los_Angeles:20260905T143000
DTEND;TZID=America/Los_Angeles:20260905T143000
DTSTAMP:20260425T094527
CREATED:20260415T184745Z
LAST-MODIFIED:20260416T001842Z
UID:10004905-1788618600-1788618600@arrowoodgolf.com
SUMMARY:Weekly Saturday Skins Game
DESCRIPTION:
URL:https://arrowoodgolf.com/event/weekly-saturday-skins-game/2026-09-05/
LOCATION:Arrowood Golf Course\, 5201 Village Dr\,\, Oceanside\, CA\, 92057\, United States
CATEGORIES:Fairways
ATTACH;FMTTYPE=image/webp:https://arrowoodgolf.com/wp-content/uploads/2025/10/Weekly-Skins-Game-2025.webp
ORGANIZER;CN="Arrowood Golf Course":MAILTO:info@arrowoodgolf.com
END:VEVENT
BEGIN:VEVENT
DTSTART;TZID=America/Los_Angeles:20260912T143000
DTEND;TZID=America/Los_Angeles:20260912T143000
DTSTAMP:20260425T094527
CREATED:20260415T184745Z
LAST-MODIFIED:20260416T001842Z
UID:10004906-1789223400-1789223400@arrowoodgolf.com
SUMMARY:Weekly Saturday Skins Game
DESCRIPTION:
URL:https://arrowoodgolf.com/event/weekly-saturday-skins-game/2026-09-12/
LOCATION:Arrowood Golf Course\, 5201 Village Dr\,\, Oceanside\, CA\, 92057\, United States
CATEGORIES:Fairways
ATTACH;FMTTYPE=image/webp:https://arrowoodgolf.com/wp-content/uploads/2025/10/Weekly-Skins-Game-2025.webp
ORGANIZER;CN="Arrowood Golf Course":MAILTO:info@arrowoodgolf.com
END:VEVENT
BEGIN:VEVENT
DTSTART;TZID=America/Los_Angeles:20260919T143000
DTEND;TZID=America/Los_Angeles:20260919T143000
DTSTAMP:20260425T094527
CREATED:20260415T184745Z
LAST-MODIFIED:20260416T001842Z
UID:10004907-1789828200-1789828200@arrowoodgolf.com
SUMMARY:Weekly Saturday Skins Game
DESCRIPTION:
URL:https://arrowoodgolf.com/event/weekly-saturday-skins-game/2026-09-19/
LOCATION:Arrowood Golf Course\, 5201 Village Dr\,\, Oceanside\, CA\, 92057\, United States
CATEGORIES:Fairways
ATTACH;FMTTYPE=image/webp:https://arrowoodgolf.com/wp-content/uploads/2025/10/Weekly-Skins-Game-2025.webp
ORGANIZER;CN="Arrowood Golf Course":MAILTO:info@arrowoodgolf.com
END:VEVENT
BEGIN:VEVENT
DTSTART;TZID=America/Los_Angeles:20260926T143000
DTEND;TZID=America/Los_Angeles:20260926T143000
DTSTAMP:20260425T094527
CREATED:20260415T184745Z
LAST-MODIFIED:20260416T001842Z
UID:10004908-1790433000-1790433000@arrowoodgolf.com
SUMMARY:Weekly Saturday Skins Game
DESCRIPTION:
URL:https://arrowoodgolf.com/event/weekly-saturday-skins-game/2026-09-26/
LOCATION:Arrowood Golf Course\, 5201 Village Dr\,\, Oceanside\, CA\, 92057\, United States
CATEGORIES:Fairways
ATTACH;FMTTYPE=image/webp:https://arrowoodgolf.com/wp-content/uploads/2025/10/Weekly-Skins-Game-2025.webp
ORGANIZER;CN="Arrowood Golf Course":MAILTO:info@arrowoodgolf.com
END:VEVENT
BEGIN:VEVENT
DTSTART;TZID=America/Los_Angeles:20261003T143000
DTEND;TZID=America/Los_Angeles:20261003T143000
DTSTAMP:20260425T094527
CREATED:20260415T184745Z
LAST-MODIFIED:20260416T001842Z
UID:10004909-1791037800-1791037800@arrowoodgolf.com
SUMMARY:Weekly Saturday Skins Game
DESCRIPTION:
URL:https://arrowoodgolf.com/event/weekly-saturday-skins-game/2026-10-03/
LOCATION:Arrowood Golf Course\, 5201 Village Dr\,\, Oceanside\, CA\, 92057\, United States
CATEGORIES:Fairways
ATTACH;FMTTYPE=image/webp:https://arrowoodgolf.com/wp-content/uploads/2025/10/Weekly-Skins-Game-2025.webp
ORGANIZER;CN="Arrowood Golf Course":MAILTO:info@arrowoodgolf.com
END:VEVENT
BEGIN:VEVENT
DTSTART;TZID=America/Los_Angeles:20261010T143000
DTEND;TZID=America/Los_Angeles:20261010T143000
DTSTAMP:20260425T094527
CREATED:20260415T184745Z
LAST-MODIFIED:20260416T001842Z
UID:10004910-1791642600-1791642600@arrowoodgolf.com
SUMMARY:Weekly Saturday Skins Game
DESCRIPTION:
URL:https://arrowoodgolf.com/event/weekly-saturday-skins-game/2026-10-10/
LOCATION:Arrowood Golf Course\, 5201 Village Dr\,\, Oceanside\, CA\, 92057\, United States
CATEGORIES:Fairways
ATTACH;FMTTYPE=image/webp:https://arrowoodgolf.com/wp-content/uploads/2025/10/Weekly-Skins-Game-2025.webp
ORGANIZER;CN="Arrowood Golf Course":MAILTO:info@arrowoodgolf.com
END:VEVENT
BEGIN:VEVENT
DTSTART;TZID=America/Los_Angeles:20261017T143000
DTEND;TZID=America/Los_Angeles:20261017T143000
DTSTAMP:20260425T094527
CREATED:20260415T184745Z
LAST-MODIFIED:20260416T001842Z
UID:10004911-1792247400-1792247400@arrowoodgolf.com
SUMMARY:Weekly Saturday Skins Game
DESCRIPTION:
URL:https://arrowoodgolf.com/event/weekly-saturday-skins-game/2026-10-17/
LOCATION:Arrowood Golf Course\, 5201 Village Dr\,\, Oceanside\, CA\, 92057\, United States
CATEGORIES:Fairways
ATTACH;FMTTYPE=image/webp:https://arrowoodgolf.com/wp-content/uploads/2025/10/Weekly-Skins-Game-2025.webp
ORGANIZER;CN="Arrowood Golf Course":MAILTO:info@arrowoodgolf.com
END:VEVENT
BEGIN:VEVENT
DTSTART;TZID=America/Los_Angeles:20261024T143000
DTEND;TZID=America/Los_Angeles:20261024T143000
DTSTAMP:20260425T094527
CREATED:20260415T184745Z
LAST-MODIFIED:20260416T001842Z
UID:10004912-1792852200-1792852200@arrowoodgolf.com
SUMMARY:Weekly Saturday Skins Game
DESCRIPTION:
URL:https://arrowoodgolf.com/event/weekly-saturday-skins-game/2026-10-24/
LOCATION:Arrowood Golf Course\, 5201 Village Dr\,\, Oceanside\, CA\, 92057\, United States
CATEGORIES:Fairways
ATTACH;FMTTYPE=image/webp:https://arrowoodgolf.com/wp-content/uploads/2025/10/Weekly-Skins-Game-2025.webp
ORGANIZER;CN="Arrowood Golf Course":MAILTO:info@arrowoodgolf.com
END:VEVENT
BEGIN:VEVENT
DTSTART;TZID=America/Los_Angeles:20261031T143000
DTEND;TZID=America/Los_Angeles:20261031T143000
DTSTAMP:20260425T094527
CREATED:20260415T184745Z
LAST-MODIFIED:20260416T001842Z
UID:10004913-1793457000-1793457000@arrowoodgolf.com
SUMMARY:Weekly Saturday Skins Game
DESCRIPTION:
URL:https://arrowoodgolf.com/event/weekly-saturday-skins-game/2026-10-31/
LOCATION:Arrowood Golf Course\, 5201 Village Dr\,\, Oceanside\, CA\, 92057\, United States
CATEGORIES:Fairways
ATTACH;FMTTYPE=image/webp:https://arrowoodgolf.com/wp-content/uploads/2025/10/Weekly-Skins-Game-2025.webp
ORGANIZER;CN="Arrowood Golf Course":MAILTO:info@arrowoodgolf.com
END:VEVENT
BEGIN:VEVENT
DTSTART;TZID=America/Los_Angeles:20261107T143000
DTEND;TZID=America/Los_Angeles:20261107T143000
DTSTAMP:20260425T094527
CREATED:20260415T184745Z
LAST-MODIFIED:20260416T001842Z
UID:10004914-1794061800-1794061800@arrowoodgolf.com
SUMMARY:Weekly Saturday Skins Game
DESCRIPTION:
URL:https://arrowoodgolf.com/event/weekly-saturday-skins-game/2026-11-07/
LOCATION:Arrowood Golf Course\, 5201 Village Dr\,\, Oceanside\, CA\, 92057\, United States
CATEGORIES:Fairways
ATTACH;FMTTYPE=image/webp:https://arrowoodgolf.com/wp-content/uploads/2025/10/Weekly-Skins-Game-2025.webp
ORGANIZER;CN="Arrowood Golf Course":MAILTO:info@arrowoodgolf.com
END:VEVENT
BEGIN:VEVENT
DTSTART;TZID=America/Los_Angeles:20261114T143000
DTEND;TZID=America/Los_Angeles:20261114T143000
DTSTAMP:20260425T094527
CREATED:20260415T184745Z
LAST-MODIFIED:20260416T001842Z
UID:10004915-1794666600-1794666600@arrowoodgolf.com
SUMMARY:Weekly Saturday Skins Game
DESCRIPTION:
URL:https://arrowoodgolf.com/event/weekly-saturday-skins-game/2026-11-14/
LOCATION:Arrowood Golf Course\, 5201 Village Dr\,\, Oceanside\, CA\, 92057\, United States
CATEGORIES:Fairways
ATTACH;FMTTYPE=image/webp:https://arrowoodgolf.com/wp-content/uploads/2025/10/Weekly-Skins-Game-2025.webp
ORGANIZER;CN="Arrowood Golf Course":MAILTO:info@arrowoodgolf.com
END:VEVENT
BEGIN:VEVENT
DTSTART;TZID=America/Los_Angeles:20261121T143000
DTEND;TZID=America/Los_Angeles:20261121T143000
DTSTAMP:20260425T094527
CREATED:20260415T184745Z
LAST-MODIFIED:20260416T001842Z
UID:10004916-1795271400-1795271400@arrowoodgolf.com
SUMMARY:Weekly Saturday Skins Game
DESCRIPTION:
URL:https://arrowoodgolf.com/event/weekly-saturday-skins-game/2026-11-21/
LOCATION:Arrowood Golf Course\, 5201 Village Dr\,\, Oceanside\, CA\, 92057\, United States
CATEGORIES:Fairways
ATTACH;FMTTYPE=image/webp:https://arrowoodgolf.com/wp-content/uploads/2025/10/Weekly-Skins-Game-2025.webp
ORGANIZER;CN="Arrowood Golf Course":MAILTO:info@arrowoodgolf.com
END:VEVENT
BEGIN:VEVENT
DTSTART;TZID=America/Los_Angeles:20261128T143000
DTEND;TZID=America/Los_Angeles:20261128T143000
DTSTAMP:20260425T094527
CREATED:20260415T184745Z
LAST-MODIFIED:20260416T001842Z
UID:10004917-1795876200-1795876200@arrowoodgolf.com
SUMMARY:Weekly Saturday Skins Game
DESCRIPTION:
URL:https://arrowoodgolf.com/event/weekly-saturday-skins-game/2026-11-28/
LOCATION:Arrowood Golf Course\, 5201 Village Dr\,\, Oceanside\, CA\, 92057\, United States
CATEGORIES:Fairways
ATTACH;FMTTYPE=image/webp:https://arrowoodgolf.com/wp-content/uploads/2025/10/Weekly-Skins-Game-2025.webp
ORGANIZER;CN="Arrowood Golf Course":MAILTO:info@arrowoodgolf.com
END:VEVENT
BEGIN:VEVENT
DTSTART;TZID=America/Los_Angeles:20261205T143000
DTEND;TZID=America/Los_Angeles:20261205T143000
DTSTAMP:20260425T094527
CREATED:20260415T184745Z
LAST-MODIFIED:20260416T001842Z
UID:10004918-1796481000-1796481000@arrowoodgolf.com
SUMMARY:Weekly Saturday Skins Game
DESCRIPTION:
URL:https://arrowoodgolf.com/event/weekly-saturday-skins-game/2026-12-05/
LOCATION:Arrowood Golf Course\, 5201 Village Dr\,\, Oceanside\, CA\, 92057\, United States
CATEGORIES:Fairways
ATTACH;FMTTYPE=image/webp:https://arrowoodgolf.com/wp-content/uploads/2025/10/Weekly-Skins-Game-2025.webp
ORGANIZER;CN="Arrowood Golf Course":MAILTO:info@arrowoodgolf.com
END:VEVENT
BEGIN:VEVENT
DTSTART;TZID=America/Los_Angeles:20261212T143000
DTEND;TZID=America/Los_Angeles:20261212T143000
DTSTAMP:20260425T094527
CREATED:20260415T184745Z
LAST-MODIFIED:20260416T001842Z
UID:10004919-1797085800-1797085800@arrowoodgolf.com
SUMMARY:Weekly Saturday Skins Game
DESCRIPTION:
URL:https://arrowoodgolf.com/event/weekly-saturday-skins-game/2026-12-12/
LOCATION:Arrowood Golf Course\, 5201 Village Dr\,\, Oceanside\, CA\, 92057\, United States
CATEGORIES:Fairways
ATTACH;FMTTYPE=image/webp:https://arrowoodgolf.com/wp-content/uploads/2025/10/Weekly-Skins-Game-2025.webp
ORGANIZER;CN="Arrowood Golf Course":MAILTO:info@arrowoodgolf.com
END:VEVENT
BEGIN:VEVENT
DTSTART;TZID=America/Los_Angeles:20261219T143000
DTEND;TZID=America/Los_Angeles:20261219T143000
DTSTAMP:20260425T094527
CREATED:20260415T184745Z
LAST-MODIFIED:20260416T001842Z
UID:10004920-1797690600-1797690600@arrowoodgolf.com
SUMMARY:Weekly Saturday Skins Game
DESCRIPTION:
URL:https://arrowoodgolf.com/event/weekly-saturday-skins-game/2026-12-19/
LOCATION:Arrowood Golf Course\, 5201 Village Dr\,\, Oceanside\, CA\, 92057\, United States
CATEGORIES:Fairways
ATTACH;FMTTYPE=image/webp:https://arrowoodgolf.com/wp-content/uploads/2025/10/Weekly-Skins-Game-2025.webp
ORGANIZER;CN="Arrowood Golf Course":MAILTO:info@arrowoodgolf.com
END:VEVENT
BEGIN:VEVENT
DTSTART;TZID=America/Los_Angeles:20261226T143000
DTEND;TZID=America/Los_Angeles:20261226T143000
DTSTAMP:20260425T094527
CREATED:20260415T184745Z
LAST-MODIFIED:20260416T001842Z
UID:10004921-1798295400-1798295400@arrowoodgolf.com
SUMMARY:Weekly Saturday Skins Game
DESCRIPTION:
URL:https://arrowoodgolf.com/event/weekly-saturday-skins-game/2026-12-26/
LOCATION:Arrowood Golf Course\, 5201 Village Dr\,\, Oceanside\, CA\, 92057\, United States
CATEGORIES:Fairways
ATTACH;FMTTYPE=image/webp:https://arrowoodgolf.com/wp-content/uploads/2025/10/Weekly-Skins-Game-2025.webp
ORGANIZER;CN="Arrowood Golf Course":MAILTO:info@arrowoodgolf.com
END:VEVENT
BEGIN:VEVENT
DTSTART;TZID=America/Los_Angeles:20270102T143000
DTEND;TZID=America/Los_Angeles:20270102T143000
DTSTAMP:20260425T094527
CREATED:20260415T184745Z
LAST-MODIFIED:20260416T001842Z
UID:10004922-1798900200-1798900200@arrowoodgolf.com
SUMMARY:Weekly Saturday Skins Game
DESCRIPTION:
URL:https://arrowoodgolf.com/event/weekly-saturday-skins-game/2027-01-02/
LOCATION:Arrowood Golf Course\, 5201 Village Dr\,\, Oceanside\, CA\, 92057\, United States
CATEGORIES:Fairways
ATTACH;FMTTYPE=image/webp:https://arrowoodgolf.com/wp-content/uploads/2025/10/Weekly-Skins-Game-2025.webp
ORGANIZER;CN="Arrowood Golf Course":MAILTO:info@arrowoodgolf.com
END:VEVENT
BEGIN:VEVENT
DTSTART;TZID=America/Los_Angeles:20270109T143000
DTEND;TZID=America/Los_Angeles:20270109T143000
DTSTAMP:20260425T094527
CREATED:20260415T184745Z
LAST-MODIFIED:20260416T001842Z
UID:10004923-1799505000-1799505000@arrowoodgolf.com
SUMMARY:Weekly Saturday Skins Game
DESCRIPTION:
URL:https://arrowoodgolf.com/event/weekly-saturday-skins-game/2027-01-09/
LOCATION:Arrowood Golf Course\, 5201 Village Dr\,\, Oceanside\, CA\, 92057\, United States
CATEGORIES:Fairways
ATTACH;FMTTYPE=image/webp:https://arrowoodgolf.com/wp-content/uploads/2025/10/Weekly-Skins-Game-2025.webp
ORGANIZER;CN="Arrowood Golf Course":MAILTO:info@arrowoodgolf.com
END:VEVENT
BEGIN:VEVENT
DTSTART;TZID=America/Los_Angeles:20270116T143000
DTEND;TZID=America/Los_Angeles:20270116T143000
DTSTAMP:20260425T094527
CREATED:20260415T184745Z
LAST-MODIFIED:20260416T001842Z
UID:10004924-1800109800-1800109800@arrowoodgolf.com
SUMMARY:Weekly Saturday Skins Game
DESCRIPTION:
URL:https://arrowoodgolf.com/event/weekly-saturday-skins-game/2027-01-16/
LOCATION:Arrowood Golf Course\, 5201 Village Dr\,\, Oceanside\, CA\, 92057\, United States
CATEGORIES:Fairways
ATTACH;FMTTYPE=image/webp:https://arrowoodgolf.com/wp-content/uploads/2025/10/Weekly-Skins-Game-2025.webp
ORGANIZER;CN="Arrowood Golf Course":MAILTO:info@arrowoodgolf.com
END:VEVENT
BEGIN:VEVENT
DTSTART;TZID=America/Los_Angeles:20270123T143000
DTEND;TZID=America/Los_Angeles:20270123T143000
DTSTAMP:20260425T094527
CREATED:20260415T184745Z
LAST-MODIFIED:20260416T001842Z
UID:10004925-1800714600-1800714600@arrowoodgolf.com
SUMMARY:Weekly Saturday Skins Game
DESCRIPTION:
URL:https://arrowoodgolf.com/event/weekly-saturday-skins-game/2027-01-23/
LOCATION:Arrowood Golf Course\, 5201 Village Dr\,\, Oceanside\, CA\, 92057\, United States
CATEGORIES:Fairways
ATTACH;FMTTYPE=image/webp:https://arrowoodgolf.com/wp-content/uploads/2025/10/Weekly-Skins-Game-2025.webp
ORGANIZER;CN="Arrowood Golf Course":MAILTO:info@arrowoodgolf.com
END:VEVENT
BEGIN:VEVENT
DTSTART;TZID=America/Los_Angeles:20270130T143000
DTEND;TZID=America/Los_Angeles:20270130T143000
DTSTAMP:20260425T094527
CREATED:20260415T184745Z
LAST-MODIFIED:20260416T001842Z
UID:10004926-1801319400-1801319400@arrowoodgolf.com
SUMMARY:Weekly Saturday Skins Game
DESCRIPTION:
URL:https://arrowoodgolf.com/event/weekly-saturday-skins-game/2027-01-30/
LOCATION:Arrowood Golf Course\, 5201 Village Dr\,\, Oceanside\, CA\, 92057\, United States
CATEGORIES:Fairways
ATTACH;FMTTYPE=image/webp:https://arrowoodgolf.com/wp-content/uploads/2025/10/Weekly-Skins-Game-2025.webp
ORGANIZER;CN="Arrowood Golf Course":MAILTO:info@arrowoodgolf.com
END:VEVENT
BEGIN:VEVENT
DTSTART;TZID=America/Los_Angeles:20270206T143000
DTEND;TZID=America/Los_Angeles:20270206T143000
DTSTAMP:20260425T094527
CREATED:20260415T184745Z
LAST-MODIFIED:20260416T001842Z
UID:10004927-1801924200-1801924200@arrowoodgolf.com
SUMMARY:Weekly Saturday Skins Game
DESCRIPTION:
URL:https://arrowoodgolf.com/event/weekly-saturday-skins-game/2027-02-06/
LOCATION:Arrowood Golf Course\, 5201 Village Dr\,\, Oceanside\, CA\, 92057\, United States
CATEGORIES:Fairways
ATTACH;FMTTYPE=image/webp:https://arrowoodgolf.com/wp-content/uploads/2025/10/Weekly-Skins-Game-2025.webp
ORGANIZER;CN="Arrowood Golf Course":MAILTO:info@arrowoodgolf.com
END:VEVENT
BEGIN:VEVENT
DTSTART;TZID=America/Los_Angeles:20270213T143000
DTEND;TZID=America/Los_Angeles:20270213T143000
DTSTAMP:20260425T094527
CREATED:20260415T184745Z
LAST-MODIFIED:20260416T001842Z
UID:10004928-1802529000-1802529000@arrowoodgolf.com
SUMMARY:Weekly Saturday Skins Game
DESCRIPTION:
URL:https://arrowoodgolf.com/event/weekly-saturday-skins-game/2027-02-13/
LOCATION:Arrowood Golf Course\, 5201 Village Dr\,\, Oceanside\, CA\, 92057\, United States
CATEGORIES:Fairways
ATTACH;FMTTYPE=image/webp:https://arrowoodgolf.com/wp-content/uploads/2025/10/Weekly-Skins-Game-2025.webp
ORGANIZER;CN="Arrowood Golf Course":MAILTO:info@arrowoodgolf.com
END:VEVENT
END:VCALENDAR